BEGIN:VCALENDAR
VERSION:2.0
PRODID:-//Airlie Beach Swim Centre - ECPv5.3.2.1//NONSGML v1.0//EN
CALSCALE:GREGORIAN
METHOD:PUBLISH
X-WR-CALNAME:Airlie Beach Swim Centre
X-ORIGINAL-URL:https://airliebeachswimcentre.com.au
X-WR-CALDESC:Events for Airlie Beach Swim Centre
BEGIN:VTIMEZONE
TZID:Australia/Melbourne
BEGIN:STANDARD
TZOFFSETFROM:+1100
TZOFFSETTO:+1000
TZNAME:AEST
DTSTART:20210403T160000
END:STANDARD
BEGIN:DAYLIGHT
TZOFFSETFROM:+1000
TZOFFSETTO:+1100
TZNAME:AEDT
DTSTART:20211002T160000
END:DAYLIGHT
END:VTIMEZONE
BEGIN:VEVENT
DTSTART;TZID=Australia/Melbourne:20210120T080000
DTEND;TZID=Australia/Melbourne:20210309T170000
DTSTAMP:20210227T223256
CREATED:20201216T161849Z
LAST-MODIFIED:20201216T162009Z
UID:2221-1611129600-1615309200@airliebeachswimcentre.com.au
SUMMARY:Apply for a $150 FairPlay Voucher
DESCRIPTION:$150 FairPlay vouchers\nFairPlay vouchers are an initiative under the Queensland Government’s Activate! Queensland 2020-2029 strategy to support regular participation in physical activity\, by reducing the cost for children and young people from low-income families. \n  \n20 January 2021: Round 4 applications open\n\n17 March 2021: Round 4 applications close.\n12 May 2021: Vouchers expire and must have been presented to an activity provider.\n26 May 2021: Vouchers must be redeemed by activity providers.\n\nHow it works \nParents\, carers or guardians can apply for a fair play voucher valued up to $150 for their child/young person. These vouchers can be used towards the cost of membership\, registration and/or participation fees for eligible activities with registered physical activity providers. \nSupport will also be available for Queensland families who struggle with the cost of regular participation but have not previously met the eligibility criteria for a voucher. \n 
URL:https://airliebeachswimcentre.com.au/event/apply-for-a-150-fairplay-voucher/
END:VEVENT
BEGIN:VEVENT
DTSTART;TZID=Australia/Melbourne:20210306T110000
DTEND;TZID=Australia/Melbourne:20210307T170000
DTSTAMP:20210227T223256
CREATED:20210212T094848Z
LAST-MODIFIED:20210226T025947Z
UID:2300-1615028400-1615136400@airliebeachswimcentre.com.au
SUMMARY:Pool Lifeguard Course
DESCRIPTION:Pool Lifeguard Course\nRoyal Life Saving Society Queensland Inc RTO 5431 \n  \nCourse details \n\nPre-requisite: Participants must have current certification in First Aid – HLTAID003 –  in order to enrol.\nCourse duration: 2 days\nValid: 1 year\nMinimum age: 16 years\n\nPrice\nFull Lifeguard Course Price (2 days): $360 \nRe-Accreditation (1 day): $140
URL:https://airliebeachswimcentre.com.au/event/pool-lifeguard-course-4/
LOCATION:Airlie Beach Swim Centre\,  2583 Proserpine Shute Harbour Rd\, Cannonvale QLD \, Whitsundays\, 4802\, Australia
ATTACH;FMTTYPE=image/jpeg:https://airliebeachswimcentre.com.au/wp-content/uploads/2020/12/pOOL-lIFEGUARD.jpg
ORGANIZER;CN="Annika%20Grunwald":MAILTO:airliebeachswimcentre@gmail.com
END:VEVENT
BEGIN:VEVENT
DTSTART;TZID=Australia/Melbourne:20210306T130000
DTEND;TZID=Australia/Melbourne:20210306T183000
DTSTAMP:20210227T223256
CREATED:20210202T104902Z
LAST-MODIFIED:20210202T104902Z
UID:2295-1615035600-1615055400@airliebeachswimcentre.com.au
SUMMARY:Bronze Medallion Course
DESCRIPTION:BRONZE MEDALLION COURSE\nRoyal Life Saving Society Queensland Inc RTO 5431 \nDates\n\n  \nCPR : Friday 5th of March CPR  1-4.30 pm \nBronze Course:   Saturday 6th of March  11-6.30 pm \nID:1453784 \n  \nHow to enrol: \nPlease cut and paste the course ID in the following link to your web browser: click here: https://www.lifesavingtraining.com.au/in-house-course-search/ \n\n\nCourse cost: $189 includes CPR THE DAY BEFORE\nPre-requisites\nThere is prior online learning required before doing the course. Course material and Bronze Medallion Course Books will be sent to your address. \nPlease book early enough so you have the time to study and you receive your learning material prior to the course \nPlease read below about your fitness requirements you need to pass the course.
URL:https://airliebeachswimcentre.com.au/event/bronze-medallion-course-3/
LOCATION:Airlie Beach Swim Centre\,  2583 Proserpine Shute Harbour Rd\, Cannonvale QLD \, Whitsundays\, 4802\, Australia
ATTACH;FMTTYPE=image/jpeg:https://airliebeachswimcentre.com.au/wp-content/uploads/2019/03/Flyer-Photo.jpg
ORGANIZER;CN="Annika%20Grunwald":MAILTO:airliebeachswimcentre@gmail.com
END:VEVENT
END:VCALENDAR