BEGIN:VCALENDAR
VERSION:2.0
PRODID:-//Airlie Beach Swim Centre - ECPv5.3.2.1//NONSGML v1.0//EN
CALSCALE:GREGORIAN
METHOD:PUBLISH
X-WR-CALNAME:Airlie Beach Swim Centre
X-ORIGINAL-URL:https://airliebeachswimcentre.com.au
X-WR-CALDESC:Events for Airlie Beach Swim Centre
BEGIN:VTIMEZONE
TZID:Australia/Melbourne
BEGIN:STANDARD
TZOFFSETFROM:+1100
TZOFFSETTO:+1000
TZNAME:AEST
DTSTART:20210403T160000
END:STANDARD
BEGIN:DAYLIGHT
TZOFFSETFROM:+1000
TZOFFSETTO:+1100
TZNAME:AEDT
DTSTART:20211002T160000
END:DAYLIGHT
END:VTIMEZONE
BEGIN:VEVENT
DTSTART;TZID=Australia/Melbourne:20210120T080000
DTEND;TZID=Australia/Melbourne:20210309T170000
DTSTAMP:20210227T223239
CREATED:20201216T161849Z
LAST-MODIFIED:20201216T162009Z
UID:2221-1611129600-1615309200@airliebeachswimcentre.com.au
SUMMARY:Apply for a $150 FairPlay Voucher
DESCRIPTION:$150 FairPlay vouchers\nFairPlay vouchers are an initiative under the Queensland Government’s Activate! Queensland 2020-2029 strategy to support regular participation in physical activity\, by reducing the cost for children and young people from low-income families. \n  \n20 January 2021: Round 4 applications open\n\n17 March 2021: Round 4 applications close.\n12 May 2021: Vouchers expire and must have been presented to an activity provider.\n26 May 2021: Vouchers must be redeemed by activity providers.\n\nHow it works \nParents\, carers or guardians can apply for a fair play voucher valued up to $150 for their child/young person. These vouchers can be used towards the cost of membership\, registration and/or participation fees for eligible activities with registered physical activity providers. \nSupport will also be available for Queensland families who struggle with the cost of regular participation but have not previously met the eligibility criteria for a voucher. \n 
URL:https://airliebeachswimcentre.com.au/event/apply-for-a-150-fairplay-voucher/
END:VEVENT
BEGIN:VEVENT
DTSTART;TZID=Australia/Melbourne:20210305T130000
DTEND;TZID=Australia/Melbourne:20210305T163000
DTSTAMP:20210227T223239
CREATED:20210202T104152Z
LAST-MODIFIED:20210202T104152Z
UID:2293-1614949200-1614961800@airliebeachswimcentre.com.au
SUMMARY:CPR COURSE
DESCRIPTION:Airlie Beach CPR Course\n  \nRoyal Life Saving Society Queensland Inc RTO 5431 \nThe Airlie Beach CPR course will provide you with the knowledge and skills required to administer resuscitation. Resuscitation refers to the actions taken to keep a casualty alive after their breathing and heartbeat has stopped. A Statement of Attainment from Royal Life Saving Society Queensland Inc RTO 5431 is issued upon successful completion in the following units: \n\nHLTAID001 Provide Cardiopulmonary Resuscitation\n\nCourse Cost: $45 \nCourse Dates\nMarch 2021 \n\n5th of March  1-4 pm Course ID:1453797
URL:https://airliebeachswimcentre.com.au/event/cpr-course-3/
LOCATION:Airlie Beach Swim Centre\,  2583 Proserpine Shute Harbour Rd\, Cannonvale QLD \, Whitsundays\, 4802\, Australia
ATTACH;FMTTYPE=image/jpeg:https://airliebeachswimcentre.com.au/wp-content/uploads/2019/08/CPR-Kids.jpg
ORGANIZER;CN="Annika%20Grunwald":MAILTO:airliebeachswimcentre@gmail.com
END:VEVENT
END:VCALENDAR