BEGIN:VCALENDAR
VERSION:2.0
PRODID:-//Airlie Beach Swim Centre - ECPv5.3.2.1//NONSGML v1.0//EN
CALSCALE:GREGORIAN
METHOD:PUBLISH
X-WR-CALNAME:Airlie Beach Swim Centre
X-ORIGINAL-URL:https://airliebeachswimcentre.com.au
X-WR-CALDESC:Events for Airlie Beach Swim Centre
BEGIN:VTIMEZONE
TZID:Australia/Melbourne
BEGIN:STANDARD
TZOFFSETFROM:+1100
TZOFFSETTO:+1000
TZNAME:AEST
DTSTART:20200404T160000
END:STANDARD
BEGIN:DAYLIGHT
TZOFFSETFROM:+1000
TZOFFSETTO:+1100
TZNAME:AEDT
DTSTART:20201003T160000
END:DAYLIGHT
END:VTIMEZONE
BEGIN:VEVENT
DTSTART;TZID=Australia/Melbourne:20200627T110000
DTEND;TZID=Australia/Melbourne:20200627T170000
DTSTAMP:20210227T224947
CREATED:20200511T045948Z
LAST-MODIFIED:20200511T050051Z
UID:2067-1593255600-1593277200@airliebeachswimcentre.com.au
SUMMARY:Swim Australia™ Teacher of Babies & Toddlers (SAT B&T)
DESCRIPTION:Swim Australia™ Teacher of Babies & Toddlers (SAT B&T)\nLearn how to teach swimming lessons. Prevent drowning by teaching children to swim and survive. Swim Australia Teachers are international recognised. \nChoose to enrol in any of the three entry-level courses to get started on an exciting new career. Or\, if you already have the skills and knowledge\, apply for recognition of current competency (RCC).  \nA Swim Australia™ Teacher (SAT) has the competence and knowledge to teach swimming and water safety to independent learners in groups of varying sizes. Successful Students of this course will gain a Statement of Attainment with the competencies required to deliver GST free\, water-related\, personal safety and survival lessons.” \n\nWhere: Airlie Beach Swim Centre\, 2583 Shute Harbour Road\, Jubilee Pocket opposite IGA\n \nCost for Swim Teacher Babies & Toddlers $299 \n\nNew Dates\nJune \n\nSaturday\, 27th June 2020- Swim Australia Teacher (B&T) for babies & toddlers 11:15 am – 5.00 pm (Course Code Q062094B:) register here  for Swim Australia & book with us on our book now button
URL:https://airliebeachswimcentre.com.au/event/swim-australia-teacher-of-babies-toddlers-sat-bt/
LOCATION:Airlie Beach Swim Centre\,  2583 Proserpine Shute Harbour Rd\, Cannonvale QLD \, Whitsundays\, 4802\, Australia
CATEGORIES:Swim Australia Teacher
ORGANIZER;CN="Annika%20Grunwald":MAILTO:airliebeachswimcentre@gmail.com
END:VEVENT
END:VCALENDAR