BEGIN:VCALENDAR
VERSION:2.0
PRODID:-//Airlie Beach Swim Centre - ECPv5.3.2.1//NONSGML v1.0//EN
CALSCALE:GREGORIAN
METHOD:PUBLISH
X-WR-CALNAME:Airlie Beach Swim Centre
X-ORIGINAL-URL:https://airliebeachswimcentre.com.au
X-WR-CALDESC:Events for Airlie Beach Swim Centre
BEGIN:VTIMEZONE
TZID:Australia/Melbourne
BEGIN:STANDARD
TZOFFSETFROM:+1100
TZOFFSETTO:+1000
TZNAME:AEST
DTSTART:20200404T160000
END:STANDARD
BEGIN:DAYLIGHT
TZOFFSETFROM:+1000
TZOFFSETTO:+1100
TZNAME:AEDT
DTSTART:20201003T160000
END:DAYLIGHT
END:VTIMEZONE
BEGIN:VEVENT
DTSTART;TZID=Australia/Melbourne:20200124T080000
DTEND;TZID=Australia/Melbourne:20200124T163000
DTSTAMP:20210227T224654
CREATED:20190806T123228Z
LAST-MODIFIED:20190806T123228Z
UID:1584-1579852800-1579883400@airliebeachswimcentre.com.au
SUMMARY:Swim Australia Teacher Course
DESCRIPTION:Become a Swim Australia Teacher\nWhat a joyful and rewarding job it is\, become a Swim Australia Teacher. \nLearn how to teach swimming lessons. Prevent drowning by teaching children to swim and survive. Swim Australia Teachers are international recognised. \nThe cost covers:\n\nCourse Theory online learning\nCourse attendance\nASCTA complimentary Basic membership\nRefreshment breaks\nAccreditation valid for 3 years\nPool entry\nLiving with Water DVD\nStatement/s of Attainment\nInsurance cover from enrolment up to one month after course requirements are completed*\n\nSwim AustraliaTM Teacher Course – Statement of Attainment\nStudents who successfully complete the relevant requirements are issued with a Statement of Attainment with one or more of the following competencies from the Community Recreation Industry Training Package: \n\nSISCAQU202A – Perform basic water rescues\nSISCAQU308A – Instruct water familiarisation\, buoyancy and mobility skills\nSISCAQU309A – Instruct clients in water safety and survival skills\nSISCAQU310A – Instruct swimming strokes\nSISCCRO302A – Apply legal and ethical instructional skills
URL:https://airliebeachswimcentre.com.au/event/swim-australia-teacher-course-5/
LOCATION:Airlie Beach Swim Centre\,  2583 Proserpine Shute Harbour Rd\, Cannonvale QLD \, Whitsundays\, 4802\, Australia
ORGANIZER;CN="Annika%20Grunwald":MAILTO:airliebeachswimcentre@gmail.com
END:VEVENT
END:VCALENDAR