BEGIN:VCALENDAR
VERSION:2.0
PRODID:-//Airlie Beach Swim Centre - ECPv5.3.2.1//NONSGML v1.0//EN
CALSCALE:GREGORIAN
METHOD:PUBLISH
X-WR-CALNAME:Airlie Beach Swim Centre
X-ORIGINAL-URL:https://airliebeachswimcentre.com.au
X-WR-CALDESC:Events for Airlie Beach Swim Centre
BEGIN:VTIMEZONE
TZID:Australia/Melbourne
BEGIN:STANDARD
TZOFFSETFROM:+1100
TZOFFSETTO:+1000
TZNAME:AEST
DTSTART:20200404T160000
END:STANDARD
BEGIN:DAYLIGHT
TZOFFSETFROM:+1000
TZOFFSETTO:+1100
TZNAME:AEDT
DTSTART:20201003T160000
END:DAYLIGHT
END:VTIMEZONE
BEGIN:VEVENT
DTSTART;TZID=Australia/Melbourne:20200711T080000
DTEND;TZID=Australia/Melbourne:20200719T170000
DTSTAMP:20210227T225024
CREATED:20200223T051847Z
LAST-MODIFIED:20200223T052102Z
UID:2042-1594454400-1595178000@airliebeachswimcentre.com.au
SUMMARY:PADI Junior Open Water Course
DESCRIPTION:PADI Junior Open Water Course\n\n\nSa\, Sun 11th\, 12th & 18th\, 19th of July 2020\n\n\n\nMore information and booking click here
URL:https://airliebeachswimcentre.com.au/event/padi-junior-open-water-course/
LOCATION:Airlie Beach Swim Centre\,  2583 Proserpine Shute Harbour Rd\, Cannonvale QLD \, Whitsundays\, 4802\, Australia
CATEGORIES:PADI Open Water
ATTACH;FMTTYPE=image/jpeg:https://airliebeachswimcentre.com.au/wp-content/uploads/2020/02/swim-center-_d00a_01b.jpg
ORGANIZER;CN="Annika%20Grunwald":MAILTO:airliebeachswimcentre@gmail.com
END:VEVENT
END:VCALENDAR