BEGIN:VCALENDAR
VERSION:2.0
PRODID:-//Airlie Beach Swim Centre - ECPv5.3.2.1//NONSGML v1.0//EN
CALSCALE:GREGORIAN
METHOD:PUBLISH
X-WR-CALNAME:Airlie Beach Swim Centre
X-ORIGINAL-URL:https://airliebeachswimcentre.com.au
X-WR-CALDESC:Events for Airlie Beach Swim Centre
BEGIN:VTIMEZONE
TZID:Australia/Melbourne
BEGIN:STANDARD
TZOFFSETFROM:+1100
TZOFFSETTO:+1000
TZNAME:AEST
DTSTART:20200404T160000
END:STANDARD
BEGIN:DAYLIGHT
TZOFFSETFROM:+1000
TZOFFSETTO:+1100
TZNAME:AEDT
DTSTART:20201003T160000
END:DAYLIGHT
END:VTIMEZONE
BEGIN:VEVENT
DTSTART;TZID=Australia/Melbourne:20200428T080000
DTEND;TZID=Australia/Melbourne:20200623T170000
DTSTAMP:20210227T224935
CREATED:20200223T054041Z
LAST-MODIFIED:20200223T054041Z
UID:2046-1588060800-1592931600@airliebeachswimcentre.com.au
SUMMARY:Kids Scuba Pool Team
DESCRIPTION:Kids Scuba Pool Team\nChild’s Pre Requisite\n\n\nEarliest Start age 8:\n\n\nSwim and Water Safety Fitness: Royal Life Savings Swim & Survive Certification Active 5 or a Reef Warrior Certification\, able to swim 50m of the breaststroke\, backstroke and freestyle\n\n\n\n\n\n\nDuration: Tuesdays 4.00pm- 7.00 pm\n\n\nCost including all small children comfortable dive gear and filled tanks for 5 sessions are $339\n\n\n\nSmall groups max:5 children diving one instructor\n\n\n\nIncluded in the Price: Classroom training\, PADI Dive Log Children size Dive Gear & tanks\, all cost of activities\, 1 hour of pool training of 2 hours by a certified PADI instructor\n\n\n\n\nSchool Term 2\n\nTimes 4pm-6pm\n\n\n\n28th of April 2020 introduction of Gear first Dive\n12th of May- Navigation\n26th of May Night dive 5.30-7.30\n9th of June Underwater buoyancy controls\n23th of June: Digital Underwater Photographer
URL:https://airliebeachswimcentre.com.au/event/kids-scuba-pool-team/
LOCATION:Airlie Beach Swim Centre\,  2583 Proserpine Shute Harbour Rd\, Cannonvale QLD \, Whitsundays\, 4802\, Australia
ORGANIZER;CN="Annika%20Grunwald":MAILTO:airliebeachswimcentre@gmail.com
END:VEVENT
END:VCALENDAR