BEGIN:VCALENDAR
VERSION:2.0
PRODID:-//Airlie Beach Swim Centre - ECPv5.3.2.1//NONSGML v1.0//EN
CALSCALE:GREGORIAN
METHOD:PUBLISH
X-WR-CALNAME:Airlie Beach Swim Centre
X-ORIGINAL-URL:https://airliebeachswimcentre.com.au
X-WR-CALDESC:Events for Airlie Beach Swim Centre
BEGIN:VTIMEZONE
TZID:Australia/Melbourne
BEGIN:STANDARD
TZOFFSETFROM:+1100
TZOFFSETTO:+1000
TZNAME:AEST
DTSTART:20200404T160000
END:STANDARD
BEGIN:DAYLIGHT
TZOFFSETFROM:+1000
TZOFFSETTO:+1100
TZNAME:AEDT
DTSTART:20201003T160000
END:DAYLIGHT
END:VTIMEZONE
BEGIN:VEVENT
DTSTART;TZID=Australia/Melbourne:20201013T080000
DTEND;TZID=Australia/Melbourne:20201124T170000
DTSTAMP:20210227T225112
CREATED:20200223T054322Z
LAST-MODIFIED:20200223T054334Z
UID:2048-1602576000-1606237200@airliebeachswimcentre.com.au
SUMMARY:Kids Scuba Pool Team
DESCRIPTION:Kids Scuba Pool Team\nChild’s Pre Requisite\n\n\nEarliest Start age 8:\n\n\nSwim and Water Safety Fitness: Royal Life Savings Swim & Survive Certification Active 5 or a Reef Warrior Certification\, able to swim 50m of the breaststroke\, backstroke and freestyle\n\n\n\n\n\n\nDuration: Tuesdays 4.00pm- 7.00 pm\n\n\nCost including all small children comfortable dive gear and filled tanks for 5 sessions are $339\n\n\n\nSmall groups max:5 children diving one instructor\n\n\n\nIncluded in the Price: Classroom training\, PADI Dive Log Children size Dive Gear & tanks\, all cost of activities\, 1 hour of pool training of 2 hours by a certified PADI instructor\n\n\n\n\n\nSchool Term 4\n\nTimes: 4pm-6pm\n\n\n13th of October 2020 introduction of Gear first Dive\n20th of October- Navigation\n27th of October Night dive 5.30-7.30\n10th of November Underwater buoyancy controls\n24th of November: Digital Underwater Photographer\n\n\n\n\n\n\n\n \n\nPADI Junior Open Water Courses:\nDates:\n\n  \n\nSa\, sun 11th\, 12th & 18th\, 19th of July 2020\n\n\n\nMore information and booking click here\n\n\nPADI Junior Open Water Scuba  Team Fun Dates\n\nKeep diving! Come out with us for 2 dives different locations\n\nDates:\n\nSunday 10th of May Bowen 1-6pm\nSunday 14th of June Boat Trip (cost varies)\nSunday 2nd of August decisions we be made depending on weather\n8th of November August decisions we be made depending on weather\n\n\nBook with Miss Annie\nCost per Dive $65
URL:https://airliebeachswimcentre.com.au/event/kids-scuba-pool-team-2/
LOCATION:Airlie Beach Swim Centre\,  2583 Proserpine Shute Harbour Rd\, Cannonvale QLD \, Whitsundays\, 4802\, Australia
CATEGORIES:PADI Open Water
ATTACH;FMTTYPE=image/jpeg:https://airliebeachswimcentre.com.au/wp-content/uploads/2020/02/swim-center-_d00a_01b.jpg
ORGANIZER;CN="Annika%20Grunwald":MAILTO:airliebeachswimcentre@gmail.com
END:VEVENT
END:VCALENDAR