BEGIN:VCALENDAR
VERSION:2.0
PRODID:-//Airlie Beach Swim Centre - ECPv5.3.2.1//NONSGML v1.0//EN
CALSCALE:GREGORIAN
METHOD:PUBLISH
X-WR-CALNAME:Airlie Beach Swim Centre
X-ORIGINAL-URL:https://airliebeachswimcentre.com.au
X-WR-CALDESC:Events for Airlie Beach Swim Centre
BEGIN:VTIMEZONE
TZID:Australia/Melbourne
BEGIN:STANDARD
TZOFFSETFROM:+1100
TZOFFSETTO:+1000
TZNAME:AEST
DTSTART:20180331T160000
END:STANDARD
BEGIN:DAYLIGHT
TZOFFSETFROM:+1000
TZOFFSETTO:+1100
TZNAME:AEDT
DTSTART:20181006T160000
END:DAYLIGHT
END:VTIMEZONE
BEGIN:VEVENT
DTSTART;VALUE=DATE:20180725
DTEND;VALUE=DATE:20180726
DTSTAMP:20210227T222543
CREATED:20180624T072431Z
LAST-MODIFIED:20180624T073301Z
UID:1038-1532476800-1532563199@airliebeachswimcentre.com.au
SUMMARY:Get started Voucher
DESCRIPTION:Get started Voucher\nOur Airlie Beach Aquatic Reef Club supports you\nUse this voucher save $100 off for Airlie Beach Swimming lessons and the Warrior Holiday Programs \nHow do I apply for a voucher?\nTo obtain a voucher visit www.qld.gov.au/recreation/sports/funding/getinthegame/.\nOur Airlie Beach Aquatic Reef Club Inc. is registered\, you will find us in the Club Locator. \nGet Started Vouchers assist children and young people who can least afford or may otherwise benefit from joining a sport or active recreation club. Eligible children and young people can apply for a voucher valued up to $150\, which can be redeemed at a sport or recreation club that is registered for Get Started Vouchers. \nApply on the exact day voucher run out quickly. \nImportant Dates: \nRound 12 25th July 2018 \nRound 13 19 Janaury 2019 \nRound 14 19 July 2019 \nWho is eligible?\nEligible applicants are Queensland children and young people aged from 5 to 17 (inclusive) who either: \n\nhold or whose parent\, carer or guardian hold a valid Centrelink Health Care Card or Pensioner Concession Card with the child’s name on it; OR\nare identified by a registered referral agent\n\nWhat funding is available?\nA maximum of $150 per voucher is available to help paying the cost of sport or recreation membership and/or participation fees. There is a limit of one voucher per child/young person per year. \nWhere can I redeem the voucher? \nYou can redeem the voucher with our Airlie Beach Aquatic Reef Club Inc.
URL:https://airliebeachswimcentre.com.au/event/get-started-voucher/
CATEGORIES:Get started voucher
ATTACH;FMTTYPE=image/jpeg:https://airliebeachswimcentre.com.au/wp-content/uploads/2018/06/images.jpg
END:VEVENT
END:VCALENDAR