BEGIN:VCALENDAR
VERSION:2.0
PRODID:-//Airlie Beach Swim Centre - ECPv5.3.2.1//NONSGML v1.0//EN
CALSCALE:GREGORIAN
METHOD:PUBLISH
X-WR-CALNAME:Airlie Beach Swim Centre
X-ORIGINAL-URL:https://airliebeachswimcentre.com.au
X-WR-CALDESC:Events for Airlie Beach Swim Centre
BEGIN:VTIMEZONE
TZID:Australia/Melbourne
BEGIN:STANDARD
TZOFFSETFROM:+1100
TZOFFSETTO:+1000
TZNAME:AEST
DTSTART:20200404T160000
END:STANDARD
BEGIN:DAYLIGHT
TZOFFSETFROM:+1000
TZOFFSETTO:+1100
TZNAME:AEDT
DTSTART:20201003T160000
END:DAYLIGHT
END:VTIMEZONE
BEGIN:VEVENT
DTSTART;TZID=Australia/Melbourne:20200207T080000
DTEND;TZID=Australia/Melbourne:20200208T170000
DTSTAMP:20210227T224727
CREATED:20200127T024546Z
LAST-MODIFIED:20200127T025300Z
UID:2008-1581062400-1581181200@airliebeachswimcentre.com.au
SUMMARY:Bronze Medaillion
DESCRIPTION:Bronze Medallion\n  \nRoyal Life Saving Society Queensland Inc RTO 5431 Bronze Medallion is recognised as the minimum standard for a qualified lifesaver. This award also increases employment opportunities with many pools and aquatic centres as they require employees who conduct aquatic programs to have their Bronze Medallion. \nThis course will enhance your personal survival skills while providing you with the knowledge and skills to develop the level of judgement\, technique and physical ability required to safely carry out water rescues. \nThe Bronze Medallion course offers a nationally recognized certification of Royal Life Saving Society Queensland Inc RTO 5431 has flexible delivery options to meet the needs of schools and groups. \nDelivery Mode options\nDelivery modes vary depending on your selected course and may include: \nFace-to-Face – Classroom-based includes theory\, practical instruction and assessment\nFlexible delivery – Self-paced pre-learning and classroom-based delivery.\nPlease check delivery options available at the time of booking. \nPre-requisites\nThere is no prior learning required for full course enrolments. Update course enrolments require a current Royal Life Saving Bronze Medallion. It is recommended that candidates are 14 in the calendar year the attempt the course. \nA medium level of aquatic fitness is required for some practical components of the Bronze Medallion. \nContent\nTHEORY\nSafe water practices; survival in the water; self-preservation; recognising an emergency; assessment before and during a rescue; priorities for rescue; CPR theory; acceptance of responsibility; use of bystanders; emergency care and contacting emergency services. \nPRACTICAL\nResuscitation: Demonstrate effective CPR\nSwim: Swim 400 metres continuously within 13 minutes. 100m freestyle\, 100m breaststroke\, 100m survival backstroke\, 100m sidestroke.\nTimed Tow: Swim 50 metres\, then tow a patient 50m within 3 min 15 sec.\nSurvival and Rescue Skills: Demonstrate a range of survival techniques and appropriate rescues for a range of different aquatic environments and scenarios.\nSpinal Injuries: Basic management of a suspected spinal injury in shallow water.\nRescue Initiative: Demonstrate initiative in effecting a rescue of two people who are in difficulty up to 15 metres from safety. \nAnnika Grunwald\nTrainer & Assessor\nRoyal Life Saving Training RTO 5431
URL:https://airliebeachswimcentre.com.au/event/bronze-medaillion-3/
LOCATION:Airlie Beach Swim Centre\,  2583 Proserpine Shute Harbour Rd\, Cannonvale QLD \, Whitsundays\, 4802\, Australia
ATTACH;FMTTYPE=image/jpeg:https://airliebeachswimcentre.com.au/wp-content/uploads/2019/08/Flyer-Photo.jpg
ORGANIZER;CN="Annika%20Grunwald":MAILTO:airliebeachswimcentre@gmail.com
END:VEVENT
END:VCALENDAR