BEGIN:VCALENDAR
VERSION:2.0
PRODID:-//Airlie Beach Swim Centre - ECPv5.3.2.1//NONSGML v1.0//EN
CALSCALE:GREGORIAN
METHOD:PUBLISH
X-WR-CALNAME:Airlie Beach Swim Centre
X-ORIGINAL-URL:https://airliebeachswimcentre.com.au
X-WR-CALDESC:Events for Airlie Beach Swim Centre
BEGIN:VTIMEZONE
TZID:Australia/Melbourne
BEGIN:STANDARD
TZOFFSETFROM:+1100
TZOFFSETTO:+1000
TZNAME:AEST
DTSTART:20200404T160000
END:STANDARD
BEGIN:DAYLIGHT
TZOFFSETFROM:+1000
TZOFFSETTO:+1100
TZNAME:AEDT
DTSTART:20201003T160000
END:DAYLIGHT
END:VTIMEZONE
BEGIN:VEVENT
DTSTART;TZID=Australia/Melbourne:20201127T130000
DTEND;TZID=Australia/Melbourne:20201127T160000
DTSTAMP:20210227T225133
CREATED:20201017T015529Z
LAST-MODIFIED:20201017T015529Z
UID:2154-1606482000-1606492800@airliebeachswimcentre.com.au
SUMMARY:Airlie Beach CPR Course
DESCRIPTION:Airlie Beach CPR Course\n  \nRoyal Life Saving Society Queensland Inc RTO 5431 \nThe Airlie Beach CPR course will provide you with the knowledge and skills required to administer resuscitation. Resuscitation refers to the actions taken to keep a casualty alive after their breathing and heartbeat has stopped. A Statement of Attainment from Royal Life Saving Society Queensland Inc RTO 5431 is issued upon successful completion in the following units: \n\nHLTAID001 Provide Cardiopulmonary Resuscitation\n\nCourse Cost: $45 \nCourse Dates\n\n27th of November 1-4 pm Course ID:1320675\n\n\nHow to enrol:\nPlease cut and paste the course ID in the following link to your web browser: click here: https://www.lifesavingtraining.com.au/in-house-course-search/ \n\nTo book in the course please select the book now button and follow the on-screen instructions. \n  \nYou will also need to collect the learning materials required to be studied before the course dates. Please collect these from Airlie Beach Swim Centre \nAll courses are subject to minimum student numbers. Your booking will not be finalised until payment has been received and any pre-course requirements met. We will send you a booking confirmation email once the above-mentioned requirement has been met. \n  \n\nIf you have any questions\, please do not hesitate to Contact\n\n\n\nAnnika Grunwald\n\n\nTrainer & Assessor\n\n\nRoyal Life Saving Training RTO 5431
URL:https://airliebeachswimcentre.com.au/event/airlie-beach-cpr-course/
LOCATION:Airlie Beach Swim Centre\,  2583 Proserpine Shute Harbour Rd\, Cannonvale QLD \, Whitsundays\, 4802\, Australia
END:VEVENT
END:VCALENDAR